BEGIN:VCALENDAR
VERSION:2.0
PRODID:-//Stratis iCal API//FR
CALSCALE:GREGORIAN
X-WR-CALNAME:Le Chant des Forêts
BEGIN:VEVENT
UID:event-313570
SUMMARY:Le Chant des Forêts
DESCRIPTION:De Vincent Munier   Documentaire (2025)  1h33  Dès 8 ans  
DTSTAMP:20260202T161700Z
DTSTART:20260423T110538Z
DTEND:20260423T110538Z
STATUS:CONFIRMED
SEQUENCE:85
BEGIN:VALARM
TRIGGER:-PT30M
DESCRIPTION:Le Chant des Forêts
ACTION:DISPLAY
END:VALARM
END:VEVENT
END:VCALENDAR