BEGIN:VCALENDAR
VERSION:2.0
PRODID:-//Stratis iCal API//FR
CALSCALE:GREGORIAN
X-WR-CALNAME:Jack et Nancy - Les plus belles histoires de Quentin Blake
BEGIN:VEVENT
UID:event-313569
SUMMARY:Jack et Nancy - Les plus belles histoires de Quentin Blake
DESCRIPTION:De Gerrit Bekers  Massimo Fenati   Animation  aventure (2025)  0h52  Dès 3 ans   
DTSTAMP:20260202T160800Z
DTSTART:20260423T032551Z
DTEND:20260423T032551Z
STATUS:CONFIRMED
SEQUENCE:91
BEGIN:VALARM
TRIGGER:-PT30M
DESCRIPTION:Jack et Nancy - Les plus belles histoires de Quentin Blake
ACTION:DISPLAY
END:VALARM
END:VEVENT
END:VCALENDAR