BEGIN:VCALENDAR
VERSION:2.0
PRODID:-//Stratis iCal API//FR
CALSCALE:GREGORIAN
X-WR-CALNAME:Les Demoiselles de Rochefort
BEGIN:VEVENT
UID:event-313565
SUMMARY:Les Demoiselles de Rochefort
DESCRIPTION:De Jacques Demy  Comédie musicale (1967)  2h05
DTSTAMP:20260202T152500Z
DTSTART:20260531T140000Z
DTEND:20260531T160500Z
STATUS:CONFIRMED
SEQUENCE:87
BEGIN:VALARM
TRIGGER:-PT30M
DESCRIPTION:Les Demoiselles de Rochefort
ACTION:DISPLAY
END:VALARM
END:VEVENT
END:VCALENDAR