BEGIN:VCALENDAR
VERSION:2.0
PRODID:-//Stratis iCal API//FR
CALSCALE:GREGORIAN
X-WR-CALNAME:Projection "ciné-science"
BEGIN:VEVENT
UID:event-298175
SUMMARY:Projection "ciné-science"
DESCRIPTION:Séance proposée en partenariat avec l’Inserm et le CNRS dans le cadre de la Semaine du cerveau 2026.
DTSTAMP:20251212T145300Z
DTSTART:20260321T150000Z
DTEND:20260321T170000Z
STATUS:CONFIRMED
SEQUENCE:86
BEGIN:VALARM
TRIGGER:-PT30M
DESCRIPTION:Projection "ciné-science"
ACTION:DISPLAY
END:VALARM
END:VEVENT
END:VCALENDAR