BEGIN:VCALENDAR
VERSION:2.0
PRODID:-//Stratis iCal API//FR
CALSCALE:GREGORIAN
X-WR-CALNAME:TikTok-Ready Choreographies
BEGIN:VEVENT
UID:event-298172
SUMMARY:TikTok-Ready Choreographies
DESCRIPTION:Spectacle d’Anna-Marija Adomaitytė  concept et chorégraphie pour 3 danseur·euses.
DTSTAMP:20251212T123000Z
DTSTART:20260411T173000Z
DTEND:20260411T190000Z
STATUS:CONFIRMED
SEQUENCE:143
BEGIN:VALARM
TRIGGER:-PT30M
DESCRIPTION:TikTok-Ready Choreographies
ACTION:DISPLAY
END:VALARM
END:VEVENT
END:VCALENDAR