BEGIN:VCALENDAR
VERSION:2.0
PRODID:-//Stratis iCal API//FR
CALSCALE:GREGORIAN
X-WR-CALNAME:Les permanences arts sonores
BEGIN:VEVENT
UID:event-247666
SUMMARY:Les permanences arts sonores
DESCRIPTION:Portes ouvertes du Studio son aux amateurs du son et du multimédia : débutants et experts sont tous bienvenus dans le LOOP.    
DTSTAMP:20250718T074500Z
DTSTART:20260420T161336Z
DTEND:20260420T161336Z
STATUS:CONFIRMED
SEQUENCE:295
BEGIN:VALARM
TRIGGER:-PT30M
DESCRIPTION:Les permanences arts sonores
ACTION:DISPLAY
END:VALARM
END:VEVENT
END:VCALENDAR